BEGIN:VCALENDAR
VERSION:2.0
PRODID:-//bonasoft.pl//NONSGML „Genially od podstaw” – warsztaty dla wszystkich zainteresowanych nauczycieli//EN
CALSCALE:GREGORIAN
METHOD:PUBLISH
BEGIN:VEVENT
UID:20260424T151024-1851487162uid
DISTAMP:20260424T151024
DTSTART:20260527T080000Z
DTEND:20260527T120000Z
LOCATION:Czytelnia PBW im. KEN w Warszawie Filia w Błoniu, ul. Jana Pawła II1b (II piętro Centrum Kultury w Błoniu)
SUMMARY:„Genially od podstaw” – warsztaty dla wszystkich zainteresowanych nauczycieli
DESCRIPTION:Biblioteka Pedagogiczna w Błoniu serdecznie zaprasza na warsztaty stacjonarne 
END:VEVENT
END:VCALENDAR
