BEGIN:VCALENDAR
VERSION:2.0
PRODID:-//bonasoft.pl//NONSGML Spotkanie autorskie  z Agnieszką Olszanowską – ,,Historia w zdjęciach zapisana …”//EN
CALSCALE:GREGORIAN
METHOD:PUBLISH
BEGIN:VEVENT
UID:20260423T144507-1785965190uid
DISTAMP:20260423T144507
DTSTART:20260511T070000Z
DTEND:20260511T120000Z
LOCATION:Czytelnia PBW im. KEN w Warszawie Filia w Błoniu, ul. Jana Pawła II1b (II piętro Centrum Kultury w Błoniu)
SUMMARY:Spotkanie autorskie  z Agnieszką Olszanowską – ,,Historia w zdjęciach zapisana …”
DESCRIPTION:Tydzień Bibliotek 2026 w Bibliotece Pedagogicznej w Błoniu.
END:VEVENT
END:VCALENDAR
