BEGIN:VCALENDAR
VERSION:2.0
PRODID:-//bonasoft.pl//NONSGML Spotkanie sieci współpracy i samokształcenia nauczycieli bibliotekarzy szkolnych powiatu warszawskiego zachodniego//EN
CALSCALE:GREGORIAN
METHOD:PUBLISH
BEGIN:VEVENT
UID:20260420T030551-1363102650uid
DISTAMP:20260420T030551
DTSTART:20260422T080000Z
DTEND:20260422T103000Z
LOCATION:Czytelnia PBW im. KEN w Warszawie Filia w Błoniu, ul. Jana Pawła II1b (II piętro Centrum Kultury w Błoniu)
SUMMARY:Spotkanie sieci współpracy i samokształcenia nauczycieli bibliotekarzy szkolnych powiatu warszawskiego zachodniego
DESCRIPTION:Zapraszamy nauczycieli bibliotekarzy szkolnych na IV spotkanie sieci
END:VEVENT
END:VCALENDAR
